Workbook

Sheet Vodoopskrba
A1: II. IZMJENA FINANCIJSKOG PLANA 2025.-2028.g.
A3: 1. PROIZVODNJA I PRODAJA VODE
B5: 1.1. Fizička proizvodnja vode ( m3 )
A8: R.b. | B8: IZVORIŠTE | C8: Izmjena plana 2025. | D8: % učešća | E8: Realizacija 2025. | F8: % učešća | G8: Plan 2026. | H8: % učešća | I8: II. Izmjena Plana 2026. | J8: % učešća | K8: Plan 2027. | L8: % učešća | M8: II.Izmjena Plana 2027. | N8: % učešća | O8: Plan 2028. | P8: % učešća | Q8: II.Izmjena Plana 2028. | R8: % učešća
A9: 1. | B9: Šibice | C9: 2210000 | D9: =(C9/$C$20)*100 -> 25.463763 | E9: 2237084 | F9: 25.740536 | G9: 1682000 | H9: 22.540874 | I9: 3000000 | J9: 28.07873 | K9: 1937000 | L9: 25.100428 | M9: 3760000 | N9: 32.854944 | O9: 2131000 | P9: 26.937176 | Q9: 4100000 | R9: 34.792219
A10: 2. | B10: VIO Zaprešić- (dobavljač) | C10: 35000 | D10: =(C10/$C$20)*100 -> 0.40327227 | E10: 34755 | F10: 0.39990109 | G10: 5000 | H10: 0.067006165 | I10: 0 | J10: 0 | K10: 5000 | L10: 0.064792018 | M10: 0 | N10: 0 | O10: 5000 | P10: 0.063203135 | Q10: 0 | R10: 0
A11: 3. | B11: Lobor | C11: 2935000 | D11: =(C11/$C$20)*100 -> 33.81726 | E11: 2924080 | F11: 33.645311 | G11: 3200000 | H11: 42.883945 | I11: 2924080 | J11: 27.368151 | K11: 3200000 | L11: 41.466891 | M11: 2924080 | N11: 25.550661 | O11: 3200000 | P11: 40.450006 | Q11: 2924080 | R11: 24.813471
A12: 4. | B12: Belečka Selnica | C12: 1605000 | D12: =(C12/$C$20)*100 -> 18.492914 | E12: 1597135 | F12: 18.377098 | G12: 1150000 | H12: 15.411418 | I12: 1597135 | J12: 14.948507 | K12: 1150000 | L12: 14.902164 | M12: 1597135 | N12: 13.955793 | O12: 1150000 | P12: 14.536721 | Q12: 1597135 | R12: 13.553139
A13: 5. | B13: Osredek Desenički | C13: 14000 | D13: =(C13/$C$20)*100 -> 0.16130891 | E13: 13850 | F13: 0.15936211 | G13: 12000 | H13: 0.16081479 | I13: 13850 | J13: 0.12963014 | K13: 12000 | L13: 0.15550084 | M13: 13850 | N13: 0.12102154 | O13: 12000 | P13: 0.15168752 | Q13: 13850 | R13: 0.11752981
A14: 6. | B14: Harina Zlaka | C14: 815000 | D14: =(C14/$C$20)*100 -> 9.3904828 | E14: 821700 | F14: 9.4547181 | G14: 700000 | H14: 9.380863 | I14: 821700 | J14: 7.6907641 | K14: 700000 | L14: 9.0708825 | M14: 821700 | N14: 7.1800287 | O14: 700000 | P14: 8.8484389 | Q14: 821700 | R14: 6.9728699
A15: 7. | B15: Mlačine | C15: 320000 | D15: =(C15/$C$20)*100 -> 3.6870607 | E15: 313930 | F15: 3.6121695 | G15: 300000 | H15: 4.0203699 | I15: 313930 | J15: 2.9382519 | K15: 300000 | L15: 3.8875211 | M15: 313930 | N15: 2.7431257 | O15: 300000 | P15: 3.7921881 | Q15: 313930 | R15: 2.6639808
A16: 8. | B16: Varkom (dobavljač) | C16: 22000 | D16: =(C16/$C$20)*100 -> 0.25348542 | E16: 22319 | F16: 0.25680888 | G16: 13000 | H16: 0.17421603 | I16: 22319 | J16: 0.20889639 | K16: 13000 | L16: 0.16845925 | M16: 22319 | N16: 0.1950238 | O16: 13000 | P16: 0.16432815 | Q16: 22319 | R16: 0.18939696
A17: 9. | B17: Pregrada | C17: 525000 | D17: =(C17/$C$20)*100 -> 6.049084 | E17: 529494 | F17: 6.0925113 | G17: 400000 | H17: 5.3604932 | I17: 529494 | J17: 4.9558396 | K17: 400000 | L17: 5.1833614 | M17: 529494 | N17: 4.6267276 | O17: 400000 | P17: 5.0562508 | Q17: 529494 | R17: 4.4932369
A18: 10. | B18: Marija Bistrica | C18: 198000 | D18: =(C18/$C$20)*100 -> 2.2813688 | E18: 196552 | F18: 2.2615842 | G18: - | H18: - | I18: 393104 | J18: 3.679287 | K18: - | L18: - | M18: 393104 | N18: 3.4349495 | O18: - | P18: - | Q18: 393104 | R18: 3.335844
A19: 11. | B19: Krapina | C19: 0 | D19: =(C19/$C$20)*100 -> 0 | E19: 0 | F19: 0 | G19: - | H19: - | I19: 1068632 | J19: 10.001943 | K19: - | L19: - | M19: 1068632 | N19: 9.3377247 | O19: - | P19: - | Q19: 1068632 | R19: 9.0683119
B20: UKUPNO | C20: =SUM(C9:C19) -> 8679000 | D20: 100 | E20: =SUM(E9:E19) -> 8690899 | F20: 100 | G20: 7462000 | H20: 100 | I20: =SUM(I9:I19) -> 10684244 | J20: 100 | K20: 7717000 | L20: 100 | M20: 11444244 | N20: 100 | O20: 7911000 | P20: 100 | Q20: 11784244 | R20: =SUM(R9:R19) -> 100
B22: 1.2. Prodaja vode ( m3 )
A24: R.b. | B24: KORISNIK | C24: Izmjena plana 2025. | D24: % učešća | E24: Realizacija 2025. | F24: % učešća | G24: Plan 2026. | H24: % učešća | I24: II. Izmjena Plana 2026. | J24: % učešća | K24: Plan 2027. | L24: % učešća | M24: II. Izmjena Plana 2027. | N24: % učešća | O24: Plan 2028. | P24: % učešća | Q24: II. Izmjena Plana 2028. | R24: % učešća
A25: 1. | B25: Poslovni korisnici | C25: 1085000 | D25: 22.63 | E25: 1090815 | F25: 22.659411 | G25: 1020000 | H25: 23.314286 | I25: 1250000 | J25: =I25/$I$33*100 -> 22.47393 | K25: 1080000 | L25: 23.632385 | M25: 1280000 | N25: =M25/$M$33*100 -> 22.195249 | O25: 1130000 | P25: 23.590814 | Q25: 1310000 | R25: =Q25/$Q$33*100 -> 22.158322
A26: 2. | B26: JLS | C26: 150000 | D26: 3.13 | E26: 149771 | F26: 3.1111808 | G26: 0 | H26: 0 | I26: 0 | J26: =I26/$I$33*100 -> 0 | K26: 0 | L26: 0 | M26: 0 | N26: =M26/$M$33*100 -> 0 | O26: 0 | P26: 0 | Q26: 0 | R26: =Q26/$Q$33*100 -> 0
A27: 3. | B27: Poslovni-socijalne ustanove | C27: 73000 | D27: 1.52 | E27: 73687 | F27: 1.5306941 | G27: 70000 | H27: 1.6 | I27: 80000 | J27: =I27/$I$33*100 -> 1.4383315 | K27: 75000 | L27: 1.6411379 | M27: 80000 | N27: =M27/$M$33*100 -> 1.3872031 | O27: 75000 | P27: 1.565762 | Q27: 80000 | R27: =Q27/$Q$33*100 -> 1.35318
A28: 4. | B28: Kućanstva | C28: 3050000 | D28: 63.62 | E28: 3060274 | F28: 63.570823 | G28: 3030000 | H28: 69.257143 | I28: 3920000 | J28: =I28/$I$33*100 -> 70.478245 | K28: 3150000 | L28: 68.92779 | M28: 4090000 | N28: =M28/$M$33*100 -> 70.920756 | O28: 3310000 | P28: 69.102296 | Q28: 4200000 | R28: =Q28/$Q$33*100 -> 71.041949
A29: 5. | B29: Socijalni slučajevi- fizičke osobe | C29: 970 | D29: 0.02 | E29: 986 | F29: 0.020482098 | G29: 5000 | H29: 0.11428571 | I29: 1000 | J29: =I29/$I$33*100 -> 0.017979144 | K29: 5000 | L29: 0.10940919 | M29: 1000 | N29: =M29/$M$33*100 -> 0.017340038 | O29: 5000 | P29: 0.10438413 | Q29: 1000 | R29: =Q29/$Q$33*100 -> 0.01691475
A30: 6. | B30: Kućanstva-stanari | C30: 260000 | D30: 5.42 | E30: 259400 | F30: 5.3884951 | G30: 250000 | H30: 5.7142857 | I30: 300000 | J30: =I30/$I$33*100 -> 5.3937433 | K30: 260000 | L30: 5.6892779 | M30: 305000 | N30: =M30/$M$33*100 -> 5.2887116 | O30: 270000 | P30: 5.6367432 | Q30: 310000 | R30: =Q30/$Q$33*100 -> 5.2435724
A31: 7. | B31: Drugi isporučitelj VIOZ d.o.o. | C31: 125000 | D31: 2.61 | E31: 125102 | F31: 2.5987337 | G31: 0 | H31: 0 | I31: 11000 | J31: =I31/$I$33*100 -> 0.19777059 | K31: 0 | L31: 0 | M31: 11000 | N31: =M31/$M$33*100 -> 0.19074042 | O31: 0 | P31: 0 | Q31: 11000 | R31: =Q31/$Q$33*100 -> 0.18606225
A32: 8. | B32: Drugi isporučitelji Krakom d.o.o. | C32: 50000 | D32: 1.04 | E32: 53925 | F32: 1.1201796 | G32: 0 | H32: 0 | I32: 0 | J32: =I32/$I$33*100 -> 0 | K32: 0 | L32: 0 | M32: 0 | N32: =M32/$M$33*100 -> 0 | O32: 0 | P32: 0 | Q32: 0 | R32: =Q32/$Q$33*100 -> 0
B33: UKUPNO | C33: =SUM(C25:C32) -> 4793970 | D33: 100 | E33: 4813960 | F33: 100 | G33: 4375000 | H33: 100 | I33: 5562000 | J33: 100 | K33: 4570000 | L33: 100 | M33: 5767000 | N33: 100 | O33: 4790000 | P33: 100 | Q33: 5912000 | R33: 100
B35: 1.3. Prihodi od prodaje vode ( €)
A37: R.b. | B37: KORISNIK | C37: Izmjena plana 2025. | D37: % učešća | E37: Realizacija 2025. | F37: % učešća | G37: Plan 2026. | H37: % učešća | I37: II. Izmjena Plana 2026. | J37: % učešća | K37: Plan 2027. | L37: % učešća | M37: II. Izmjena Plana 2027. | N37: % učešća | O37: Plan 2028. | P37: % učešća | Q37: II. Izmjena Plana 2028. | R37: % učešća
A38: 1. | B38: Poslovni korisnici | C38: 1356250 | D38: 26.21 | E38: 1363643.8 | F38: 26.249356 | G38: 1275000 | H38: 26.220001 | I38: 1639500 | J38: =I38/$I$46*100 -> 25.314345 | K38: 1350000 | L38: 26.563561 | M38: 1779200 | N38: =M38/$M$46*100 -> 25.029719 | O38: 1412500 | P38: 26.518103 | Q38: 1820900 | R38: =Q38/$Q$46*100 -> 24.988678
A39: 2. | B39: JLS | C39: 160500 | D39: 3.1 | E39: 160254.97 | F39: 3.0848156 | G39: 0 | H39: 0 | I39: 0 | J39: =I39/$I$46*100 -> 0 | K39: 0 | L39: 0 | M39: 0 | N39: =M39/$M$46*100 -> 0 | O39: 0 | P39: 0 | Q39: 0 | R39: =Q39/$Q$46*100 -> 0
A40: 3. | B40: Poslovni- socijalne ustanove | C40: 78110 | D40: 1.51 | E40: 79227.94 | F40: 1.5250921 | G40: 74900 | H40: 1.5402965 | I40: 89200 | J40: =I40/$I$46*100 -> 1.3772733 | K40: 80250 | L40: 1.5790561 | M40: 95200 | N40: =M40/$M$46*100 -> 1.33927 | O40: 80250 | P40: 1.5066037 | Q40: 95200 | R40: =Q40/$Q$46*100 -> 1.306454
A41: 4. | B41: Kućanstva | C41: 3263500 | D41: 63.07 | E41: 3274502.4 | F41: 63.032279 | G41: 3242100 | H41: 66.672836 | I41: 4406200 | J41: =I41/$I$46*100 -> 68.032977 | K41: 3370500 | L41: 66.320357 | M41: 4867100 | N41: =M41/$M$46*100 -> 68.470179 | O41: 3541700 | P41: 66.491444 | Q41: 4998000 | R41: =Q41/$Q$46*100 -> 68.588838
A42: 5. | B42: Socijalni slučajevi-fizičke osobe | C42: 620.8 | D42: 0.01 | E42: 633.47 | F42: 0.012193932 | G42: 3200 | H42: 0.065807062 | I42: 675 | J42: =I42/$I$46*100 -> 0.010422191 | K42: 3200 | L42: 0.062965477 | M42: 710 | N42: =M42/$M$46*100 -> 0.0099882533 | O42: 3200 | P42: 0.06007641 | Q42: 710 | R42: =Q42/$Q$46*100 -> 0.0097435123
A43: 6. | B43: Kućanstva-stanari | C43: 278200 | D43: 5.38 | E43: 277745.85 | F43: 5.3464472 | G43: 267500 | H43: 5.5010591 | I43: 337800 | J43: =I43/$I$46*100 -> 5.2157278 | K43: 278200 | L43: 5.4740612 | M43: 362950 | N43: =M43/$M$46*100 -> 5.1059669 | O43: 288900 | P43: 5.4237734 | Q43: 368900 | R43: =Q43/$Q$46*100 -> 5.0625094
A44: 7. | B44: Drugi isporučitelji VIOZ d.o.o. | C44: 21912.5 | D44: 0.42 | E44: 22133.44 | F44: 0.42605593 | G44: 0 | H44: 0 | I44: 3190 | J44: =I44/$I$46*100 -> 0.049254505 | K44: 0 | L44: 0 | M44: 3190 | N44: =M44/$M$46*100 -> 0.0448768 | O44: 0 | P44: 0 | Q44: 3190 | R44: =Q44/$Q$46*100 -> 0.043777189
A45: 8. | B45: Drugi isporučitelji Krakom d.o.o. | C45: 15595 | D45: 0.3 | E45: 16819.21 | F45: 0.32376008 | G45: 0 | H45: 0 | I45: 0 | J45: =I45/$I$46*100 -> 0 | K45: 0 | L45: 0 | M45: 0 | N45: =M45/$M$46*100 -> 0 | O45: 0 | P45: 0 | Q45: 0 | R45: =Q45/$Q$46*100 -> 0
B46: UKUPNO ( varijabilni dio ) | C46: 5174688.3 | D46: 100 | E46: =SUM(E38:E45) -> 5194961.1 | F46: 100 | G46: 4862700 | H46: 100 | I46: =SUM(I38:I45) -> 6476565 | J46: 100 | K46: 5082150 | L46: 100 | M46: =SUM(M38:M45) -> 7108350 | N46: 100 | O46: 5326550 | P46: 100 | Q46: =SUM(Q38:Q45) -> 7286900 | R46: 100
A47: 9. | B47: Fiksna naknada | C47: 2240304.1 | E47: 2241175.9 | G47: 2439600 | I47: 2713651.8 | K47: 2562864 | M47: 3033424.8 | O47: 2624496 | Q47: 3106168.8
B48: SVEUKUPNO | C48: 7414992.4 | E48: =E46+E47 -> 7436137 | G48: 7302300 | I48: =I46+I47 -> 9190216.8 | K48: 7645014 | M48: =M46+M47 -> 10141775 | O48: 7951046 | Q48: =Q46+Q47 -> 10393069

Sheet Odvodnja i pročišćavanje
B4: 2.1. ODVODNJA
B7: 2.1.1. Odvodnja -fizički pokazatelji (m3)
A11: R.b. | B11: KORISNIK | D11: Izmjena plana 2025. | E11: % učešća | F11: Realizacija 2025. | G11: % učešća | H11: Plan 2026. | I11: % učešća | J11: II. Izmjena Plana 2026. | K11: % učešća | L11: Plan 2027. | M11: % učešća | N11: II. Izmjena Plana 2027. | O11: % učešća | P11: Plan 2028. | Q11: % učešća | R11: II. Izmjena Plana 2028. | S11: % učešća
A12: 1. | B12: Poslovni korisnici | D12: 550020 | E12: 40.96 | F12: 552963 | G12: 40.86 | H12: 668000 | I12: 39.655684 | J12: 730000 | K12: 39.3531 | L12: 726000 | M12: 39.626658 | N12: 865000 | O12: 39.318182 | P12: 785000 | Q12: 39.65047 | R12: 915000 | S12: 39.102564
A13: 2. | B13: Poslovni socijalne ustanove | D13: 22680 | E13: 1.69 | F13: 22824 | G13: 1.69 | H13: 7400 | I13: 0.4392995 | J13: 25000 | K13: 1.3477089 | L13: 8000 | M13: 0.43665739 | N13: 30000 | O13: 1.3636364 | P13: 8700 | Q13: 0.43943833 | R13: 35000 | S13: 1.4957265
A14: 3. | B14: Kućanstva | D14: 580000 | E14: 43.19 | F14: 584248 | G14: 43.17 | H14: 770000 | I14: 45.710893 | J14: 840000 | K14: 45.283019 | L14: 838000 | M14: 45.739861 | N14: 995000 | O14: 45.227273 | P14: 905000 | Q14: 45.711688 | R14: 1060000 | S14: 45.299145
A15: 4. | B15: Kućanstva-stanari | D15: 190000 | E15: 14.15 | F15: 193134 | G15: 14.27 | H15: 239000 | I15: 14.188186 | J15: 260000 | K15: 14.016173 | L15: 260000 | M15: 14.191365 | N15: 310000 | O15: 14.090909 | P15: 281000 | Q15: 14.193353 | R15: 330000 | S15: 14.102564
A16: 5. | B16: Socijalni slučajevi-fizičke osobe | D16: 126 | E16: 0.01 | F16: 130 | G16: 0.01 | H16: 100 | I16: 7.536363e-05 | J16: 0 | K16: 0 | L16: 100 | M16: 7.536363e-05 | N16: 0 | O16: 0 | P16: 100 | Q16: 7.536363e-05 | R16: 0 | S16: 0
B17: UKUPNO | D17: =SUM(D12:D16) -> 1342826 | E17: 100 | F17: 1353299 | G17: 100 | H17: 1684500 | I17: 100 | J17: 1855000 | K17: 100 | L17: 1832100 | M17: 100 | N17: 2200000 | O17: 100 | P17: 1979800 | Q17: 99.995024 | R17: 2340000 | S17: 100
B21: 2.1.2. Odvodnja- prihodi (€)
A25: R.b. | B25: KORISNIK | D25: Izmjena plana 2025. | E25: % učešća | F25: Realizacija 2025. | G25: % učešća | H25: Plan 2026. | I25: % učešća | J25: II. Izmjena Plana 2026. | K25: % učešća | L25: Plan 2027. | M25: % učešća | N25: II. Izmjena Plana 2027. | O25: % učešća | P25: Plan 2028. | Q25: % učešća | R25: II. Izmjena Plana 2028. | S25: % učešća
A26: 1. | B26: Poslovni korisnici | D26: 253009.2 | E26: 50.73 | F26: 253800.87 | G26: 50.56 | H26: 307280 | I26: 49.371528 | J26: 369800 | K26: 49.120011 | L26: 333960 | M26: 49.341128 | N26: 484400 | O26: 48.845417 | P26: 361100 | Q26: 49.36594 | R26: 512400 | S26: 48.619414
A27: 2. | B27: Poslovni socijalne ustanove | D27: 7030.8 | E27: 1.41 | F27: 7075.73 | G27: 1.41 | H27: 2294 | I27: 0.36858333 | J27: 8450 | K27: 1.1224015 | L27: 2480 | M27: 0.36640915 | N27: 11400 | O27: 1.1495412 | P27: 2697 | Q27: 0.36870656 | R27: 13300 | S27: 1.2619793
A28: 3. | B28: Kućanstva | D28: 179800 | E28: 36.05 | F28: 181104.41 | G28: 36.08 | H28: 238700 | I28: 38.35259 | J28: 287700 | K28: 38.214784 | L28: 259780 | M28: 38.381358 | N28: 378100 | O28: 38.12645 | P28: 280550 | Q28: 38.353958 | R28: 402800 | S28: 38.219945
A29: 4. | B29: Kućanstva -stanari | D29: 58900 | E29: 11.81 | F29: 59946.49 | G29: 11.94 | H29: 74090 | I29: 11.904245 | J29: 86900 | K29: 11.542804 | L29: 80600 | M29: 11.908297 | N29: 117800 | O29: 11.878592 | P29: 87110 | Q29: 11.908798 | R29: 125400 | S29: 11.898662
A30: 5. | B30: Socijalni slučajevi-fizičke osobe | D30: 23.94 | E30: 0 | F30: 24.09 | G30: 0 | H30: 19 | I30: 0.0030527826 | J30: 0 | K30: 0 | L30: 19 | M30: 0.0028071668 | N30: 0 | O30: 0 | P30: 19 | Q30: 0.0025974878 | R30: 0 | S30: 0
B31: UKUPNO (varijabilni dio) | D31: =SUM(D26:D30) -> 498763.94 | E31: 100 | F31: =SUM(F26:F30) -> 501951.59 | G31: 100 | H31: 622383 | I31: 100 | J31: 752850 | K31: 100 | L31: 676839 | M31: 100 | N31: 991700 | O31: 100 | P31: 731476 | Q31: 100 | R31: 1053900 | S31: 100
A32: 6. | B32: Fiksna naknada | D32: 56986 | F32: 57215.54 | H32: 71136 | J32: 79403.2 | L32: 77376 | N32: 102578.4 | P32: 83616 | R32: 108864
B33: SVEUKUPNO | D33: =D31+D32 -> 555749.94 | F33: =F31+F32 -> 559167.13 | H33: 693519 | J33: 832253.2 | L33: 754215 | N33: 1094278.4 | P33: 815092 | R33: 1162764
B43: 2.2. PROČIŠĆAVANJE
B45: 2.2.1. Pročišćavanje -fizički pokazatelji (m3)
A49: R.b. | B49: KORISNIK | D49: Izmjena plana 2025. | E49: % učešća | F49: Realizacija 2025. | G49: % učešća | H49: Plan 2026. | I49: % učešća | J49: II. Izmjena Plana 2026. | K49: % učešća | L49: Plan 2027. | M49: % učešća | N49: II. Izmjena Plana 2027. | O49: % učešća | P49: Plan 2028. | Q49: % učešća | R49: II. Izmjena Plana 2028. | S49: % učešća
A50: 1. | B50: Poslovni korisnici | D50: 168000 | E50: 60.94 | F50: 167384 | G50: 61.78 | H50: 634600 | I50: 39.651348 | J50: 693000 | K50: 39.668002 | L50: 689700 | M50: 39.628821 | N50: 819850 | O50: 39.648994 | P50: 745750 | Q50: 39.652473 | R50: 869250 | S50: 39.642996
A51: 2. | B51: Poslovni socijalne ustanove | D51: 670 | E51: 0.24 | F51: 681 | G51: 0.25 | H51: 7300 | I51: 0.45612172 | J51: 7000 | K51: 0.40068689 | L51: 7600 | M51: 0.43668122 | N51: 9120 | O51: 0.44105486 | P51: 8265 | Q51: 0.43946052 | R51: 9595 | S51: 0.43758936
A52: 3. | B52: Kućanstva | D52: 72000 | E52: 26.12 | F52: 69862 | G52: 25.79 | H52: 731500 | I52: 45.705895 | J52: 800000 | K52: 45.792788 | L52: 796100 | M52: 45.742358 | N52: 945250 | O52: 45.713498 | P52: 859750 | Q52: 45.713997 | R52: 1003200 | S52: 45.751917
A53: 4. | B53: Kućanstva -stanari | D53: 35000 | E53: 12.7 | F53: 33008 | G53: 12.18 | H53: 227050 | I53: 14.186635 | J53: 247000 | K53: 14.138523 | L53: 247000 | M53: 14.19214 | N53: 293550 | O53: 14.196453 | P53: 266950 | Q53: 14.19407 | R53: 310650 | S53: 14.167497
B54: UKUPNO | D54: =SUM(D50:D53) -> 275670 | E54: 100 | F54: 270935 | G54: 100 | H54: 1600450 | I54: 100 | J54: =SUM(J50:J53) -> 1747000 | K54: 100 | L54: 1740400 | M54: 100 | N54: 2067770 | O54: 100 | P54: 1880715 | Q54: 100 | R54: 2192695 | S54: 100
B57: 2.2.2. Pročišćavanje - prihodi (€)
A60: R.b. | B60: KORISNIK | D60: Izmjena plana 2025. | E60: % učešća | F60: Realizacija 2025. | G60: % učešća | H60: Plan 2026. | I60: % učešća | J60: II. Izmjena Plana 2026. | K60: % učešća | L60: Plan 2027. | M60: % učešća | N60: II. Izmjena Plana 2027. | O60: % učešća | P60: Plan 2028. | Q60: % učešća | R60: II. Izmjena Plana 2028. | S60: % učešća
A61: 1. | B61: Poslovni korisnici | D61: 114240 | E61: 72.62 | F61: 115857.84 | G61: 73.36 | H61: 431528 | I61: 52.762548 | J61: 544800 | K61: 52.591441 | L61: 468996 | M61: 52.739082 | N61: 655880 | O61: 52.79127 | P61: 507110 | Q61: 52.76372 | R61: 695400 | S61: 52.785023
A62: 2. | B62: Poslovni socijalne ustanove | D62: 268 | E62: 0.17 | F62: 288.4 | G62: 0.18 | H62: 2920 | I62: 0.35702583 | J62: 3220 | K62: 0.31083781 | L62: 3040 | M62: 0.34185112 | N62: 4286.4 | O62: 0.34500899 | P62: 3306 | Q62: 0.34398229 | R62: 4509.65 | S62: 0.34230943
A63: 3. | B63: Kućanstva | D63: 28800 | E63: 18.31 | F63: 27892.85 | G63: 17.66 | H63: 292600 | I63: 35.775944 | J63: 373200 | K63: 36.026296 | L63: 318440 | M63: 35.808905 | N63: 444267.5 | O63: 35.758745 | P63: 343900 | Q63: 35.782065 | R63: 471504 | S63: 35.789976
A64: 4. | B64: Kućanstva-stanari | D64: 14000 | E64: 8.9 | F64: 13892.07 | G64: 8.8 | H64: 90820 | I64: 11.104481 | J64: 114690 | K64: 11.071425 | L64: 98800 | M64: 11.110162 | N64: 137968.5 | O64: 11.104977 | P64: 106780 | Q64: 11.110232 | R64: 146005.5 | S64: 11.082691
B65: UKUPNO ( varijabilni dio) | D65: =SUM(D61:D64) -> 157308 | E65: 100 | F65: =SUM(F61:F64) -> 157931.16 | G65: 100 | H65: 817868 | I65: 100 | J65: 1035910 | K65: 100 | L65: 889276 | M65: 100 | N65: 1242402.4 | O65: 100 | P65: 961096 | Q65: 100 | R65: 1317419.1 | S65: 100
A66: 5. | B66: Fiksna naknada | D66: 12612 | F66: 12602.39 | H66: 79279.2 | J66: 25476 | L66: 85562.4 | N66: 124224 | P66: 93231.6 | R66: 133440
B67: SVEUKUPNO | D67: 169920 | F67: =F65+F66 -> 170533.55 | H67: 897147.2 | I67: 100 | J67: 1061386 | L67: 974838.4 | N67: 1366626.4 | P67: 1054327.6 | R67: 1450859.1

Sheet Prihodi
A2: 3. PRIHODI (€)
A6: R.b. | B6: PRIHOD | D6: Izmjena plana 2025. | E6: % učešća u uk. prihodima | F6: Realizacija plana 2025. | G6: % učešća u uk. prihodima | H6: Plan 2026. | I6: % učešća u uk. prihodima | J6: II. Izmjena Plana 2026. | K6: % učešća u uk. prihodima | L6: Plan 2027. | M6: % učešća u uk. prihodima | N6: II. Izmjena Plana 2027. | O6: % učešća u uk. prihodima | P6: Plan 2028. | Q6: % učešća u uk. prihodima | R6: II. Izmjena Plana 2028. | S6: % učešća u uk. prihodima
A7: 1. | B7: PRIHODI OD PRODAJE | D7: 9032662.4 | E7: 70.7 | F7: 9062477 | G7: 70.624454 | H7: 9657966.2 | I7: 71.025079 | J7: =SUM(J8:J13) -> 12061112 | K7: =(J7/J22)*100 -> 69.592257 | L7: 10179067 | M7: 71.890804 | N7: =SUM(N8:N13) -> 13544480 | O7: =(N7/N22)*100 -> 63.131243 | P7: 10665466 | Q7: 72.576575 | R7: =SUM(R8:R13) -> 13949192 | S7: 63.738785
A8: 1.1. | B8: Usluga distribucije vode | D8: 7414992.4 | E8: 58.04 | F8: 7436137 | G8: 57.950284 | H8: 7302300 | I8: 53.701413 | J8: =Vodoopskrba!I48 -> 9190216.8 | K8: =(J8/J22)*100 -> 53.027277 | L8: 7645014 | M8: 53.993768 | N8: =Vodoopskrba!M48 -> 10141775 | O8: =(N8/N22)*100 -> 47.271129 | P8: 7951046 | Q8: 54.105438 | R8: =Vodoopskrba!Q48 -> 10393069 | S8: 47.48808
A9: 1.2. | B9: Usluga odvodnje | D9: 555749.94 | E9: 4.35 | F9: 559167.13 | G9: 4.3576247 | H9: 693519 | I9: 5.1001671 | J9: 832253.2 | K9: =(J9/J22)*100 -> 4.8020762 | L9: 754215 | M9: 5.3267279 | N9: 1094278.4 | O9: =(N9/N22)*100 -> 5.1004658 | P9: 815092 | Q9: 5.5465544 | R9: 1162764 | S9: 5.3135772
A10: 1.3. | B10: Usluga pročišćavanja | D10: 169920 | E10: 1.33 | F10: 170533.55 | G10: 1.3289787 | H10: 897147.2 | I10: 6.5976572 | J10: 1061386 | K10: =(J10/J22)*100 -> 6.1241656 | L10: 974838.4 | M10: 6.8849054 | N10: 1366626.4 | O10: =(N10/N22)*100 -> 6.3698884 | P10: 1054327.6 | Q10: 7.1745097 | R10: 1450859.1 | S10: 6.630109
A11: 1.4. | B11: Usluga pražnjenja -septičke | D11: 60000 | E11: 0.47 | F11: 59516.35 | G11: 0.46381467 | H11: 60000 | I11: 0.44124246 | J11: 97256 | K11: =(J11/J22)*100 -> 0.56116422 | L11: 60000 | M11: 0.42375672 | N11: 114800 | O11: =(N11/N22)*100 -> 0.53508639 | P11: 60000 | Q11: 0.40828921 | R11: 119500 | S11: 0.54608887
A12: 1.5. | B12: Izgradnja priključaka | D12: 640000 | E12: 5.01 | F12: 643149.86 | G12: 5.0121074 | H12: 430000 | I12: 3.1622376 | J12: 600000 | K12: =(J12/J22)*100 -> 3.4619821 | L12: 460000 | M12: 3.2488015 | N12: 600000 | O12: =(N12/N22)*100 -> 2.7966188 | P12: 490000 | Q12: 3.3343619 | R12: 600000 | S12: 2.7418688
A13: 1.6. | B13: Ostale usluge | D13: 192000 | E13: 1.5 | F13: 193973.13 | G13: 1.5116448 | H13: 275000 | I13: 2.0223613 | J13: 280000 | K13: =(J13/J22)*100 -> 1.6155917 | L13: 285000 | M13: 2.0128444 | N13: 227000 | O13: =(N13/N22)*100 -> 1.0580541 | P13: 295000 | Q13: 2.0074219 | R13: 223000 | S13: 1.0190612
A14: 2. | B14: PRIHODI OD UPOTREBE VLASTITIH PROIZVODA,ROBE I USLUGA | D14: 959482.62 | E14: 7.51 | F14: 994042.45 | G14: 7.7466355 | H14: 730000 | I14: 5.3684499 | J14: 930000 | K14: =(J14/J22)*100 -> 5.3660723 | L14: 750000 | M14: 5.296959 | N14: 950000 | O14: =(N14/N22)*100 -> 4.4279797 | P14: 770000 | Q14: 5.2397115 | R14: 970000 | S14: 4.4326879
A15: 2.1. | B15: Izgradnja MVM, kolektora | D15: 329761.19 | E15: 2.58 | F15: 311093.95 | G15: 2.4243748 | H15: 200000 | I15: 1.4708082 | J15: 400000 | K15: =(J15/J22)*100 -> 2.3079881 | L15: 200000 | M15: 1.4125224 | N15: 400000 | O15: =(N15/N22)*100 -> 1.8644125 | P15: 200000 | Q15: 1.360964 | R15: 400000 | S15: 1.8279125
A16: 2.2. | B16: Rekonstrukcije | D16: 359721.43 | E16: 2.82 | F16: 431674.34 | G16: 3.3640653 | H16: 250000 | I16: 1.8385102 | J16: 250000 | K16: =(J16/J22)*100 -> 1.4424925 | L16: 250000 | M16: 1.765653 | N16: 250000 | O16: =(N16/N22)*100 -> 1.1652578 | P16: 250000 | Q16: 1.701205 | R16: 250000 | S16: 1.1424453
A17: 2.3. | B17: Baždarenje | D17: 270000 | E17: 2.11 | F17: 251274.16 | G17: 1.9581954 | H17: 280000 | I17: 2.0591315 | J17: 280000 | K17: =(J17/J22)*100 -> 1.6155917 | L17: 300000 | M17: 2.1187836 | N17: 300000 | O17: =(N17/N22)*100 -> 1.3983094 | P17: 320000 | Q17: 2.1775424 | R17: 320000 | S17: 1.46233
A18: 3. | B18: OSTALI PRIHODI | D18: 2755000 | E18: 21.56 | F18: 2748506.3 | G18: 21.419283 | H18: 3180000 | I18: 23.38585 | J18: =J19+J20 -> 4295000 | K18: =(J18/J22)*100 -> 24.782022 | L18: 3200000 | M18: 22.600359 | N18: 6920000 | O18: =(N18/N22)*100 -> 32.254336 | P18: 3230000 | Q18: 21.979569 | R18: 6925000 | S18: 31.645736
A19: 3.1. | B19: Oprihodovanje HSFI 15 | D19: 2410000 | E19: 18.86 | F19: 2409697 | G19: 18.778921 | H19: 2470000 | I19: 18.164481 | J19: 3550000 | K19: =(J19/J22)*100 -> 20.483394 | L19: 2490000 | M19: 17.585904 | N19: 6650000 | O19: =(N19/N22)*100 -> 30.995858 | P19: 2520000 | Q19: 17.148147 | R19: 6650000 | S19: 30.389046
A20: 3.2. | B20: Ostali prihodi | D20: 345000 | E20: 2.7 | F20: 338809.26 | G20: 2.6403619 | H20: 710000 | I20: 5.2213691 | J20: 745000 | K20: =(J20/J22)*100 -> 4.2986278 | L20: 710000 | M20: 5.0144546 | N20: 270000 | O20: =(N20/N22)*100 -> 1.2584784 | P20: 710000 | Q20: 4.8314223 | R20: 275000 | S20: 1.2566899
A21: 4. | B21: FINANCIJSKI PRIHODI | D21: 28300 | E21: 0.22 | F21: 26899.22 | G21: 0.20962732 | H21: 30000 | I21: 0.22062123 | J21: 45000 | K21: =(J21/J22)*100 -> 0.25964866 | L21: 30000 | M21: 0.21187836 | N21: 40000 | O21: =(N21/N22)*100 -> 0.18644125 | P21: 30000 | Q21: 0.2041446 | R21: 40000 | S21: 0.18279125
B22: UKUPNI PRIHODI | D22: =D21+D18+D14+D7 -> 12775445 | E22: 100 | F22: 12831925 | G22: 100 | H22: 13597966 | I22: 100 | J22: =J7+J14+J18+J21 -> 17331112 | K22: =K7+K14+K18+K21 -> 100 | L22: 14159067 | M22: 100 | N22: =N7+N14+N18+N21 -> 21454480 | O22: =O21+O18+O14+O7 -> 100 | P22: 14695466 | Q22: 100 | R22: =R7+R14+R18+R21 -> 21884192 | S22: 100

Sheet Rashodi
A1: 4. RASHODI ( € )
A4: R.b. | B4: VRSTA RASHODA | D4: Plan 2025. | E4: % učešća u ukupnim rashodima | F4: Izmjena Plana 2025. | G4: % učešća u ukupnim rashodima | H4: Realizacija plana 2025. | I4: % učešća u ukupnim rashodima | J4: Plan 2026. | K4: % učešća u ukupnim rashodima | L4: II. Izmjena Plana 2026. | M4: % učešća u ukupnim rashodima | N4: Plan 2027. | O4: % učešća u ukupnim rashodima | P4: II. Izmjena Plana 2027. | Q4: % učešća u ukupnim rashodima | R4: Plan 2028. | S4: % učešća u ukupnim rashodima | T4: II. Izmjena Plana 2028. | U4: % učešća u ukupnim rashodima
A5: 1. | B5: Poslovni rashodi | D5: 12199700 | E5: 99.009877 | F5: 12763950 | G5: 99.920151 | H5: 12807882 | I5: 99.927989 | J5: 13474700 | K5: 99.102723 | L5: 17240200 | M5: 99.486416 | N5: 14085700 | O5: 99.491443 | P5: 21323200 | Q5: 99.440382 | R5: 14621700 | S5: 99.509994 | T5: 21752200 | U5: 99.451358
A6: 1.1. | B6: MATERIJALNI TROŠKOVI | D6: 3422200 | E6: 27.773765 | F6: 3605850 | G6: 28.22771 | H6: 3659702.2 | I6: 28.553253 | J6: 3781200 | K6: 27.809689 | L6: 4523200 | M6: 26.101609 | N6: 3834200 | O6: 27.082083 | P6: 4886200 | Q6: 22.786711 | R6: 3841200 | S6: 26.141816 | T6: 5003200 | U6: 22.874699
A7: A.) | B7: TROŠKOVI SIROVINA I MATERIJALA | D7: 1871000 | E7: 15.184593 | F7: 2088000 | G7: 16.34551 | H7: 2147207.6 | I7: 16.752664 | J7: 2442500 | K7: 17.963918 | L7: 2516000 | M7: 14.518847 | N7: 2442500 | O7: 17.252096 | P7: 2665000 | Q7: 12.428182 | R7: 2442500 | S7: 16.62277 | T7: 2750000 | U7: 12.573038
A8: A.1. | B8: Materijal | D8: 771000 | E8: 6.2572535 | F8: 1233000 | G8: 9.6523056 | H8: 1278777.7 | I8: 9.9771134 | J8: 782500 | K8: 5.7550729 | L8: 1224000 | M8: 7.0632228 | N8: 782500 | O8: 5.5270277 | P8: 1300000 | Q8: 6.062528 | R8: 782500 | S8: 5.3254116 | T8: 1330000 | U8: 6.0807783
A9: A.2. | B9: Energija,gorivo | D9: 1100000 | E9: 8.9273396 | F9: 855000 | G9: 6.6932046 | H9: 868429.86 | I9: 6.7755506 | J9: 1660000 | K9: 12.208845 | L9: 1292000 | M9: 7.455624 | N9: 1660000 | O9: 11.725068 | P9: 1365000 | Q9: 6.3656544 | R9: 1660000 | S9: 11.297359 | T9: 1420000 | U9: 6.4922596
A10: B.) | B10: OSTALI VANJSKI TROŠKOVI | D10: 1551200 | E10: 12.589172 | F10: 1517850 | G10: 11.8822 | H10: 1512494.6 | I10: 11.800589 | J10: 1338700 | K10: 9.8457714 | L10: 2007200 | M10: 11.582762 | N10: 1391700 | O10: 9.8299865 | P10: 2221200 | Q10: 10.358529 | R10: 1398700 | S10: 9.5190456 | T10: 2253200 | U10: 10.301661
A11: B.1.a | B11: Dobava vode Šibice | D11: 210000 | E11: 1.7043103 | F11: 313000 | G11: 2.4502609 | H11: 318452.21 | I11: 2.4845864 | J11: 240000 | K11: 1.7651342 | L11: 420000 | M11: 2.4236549 | N11: 280000 | O11: 1.9777224 | P11: 530000 | Q11: 2.471646 | R11: 300000 | S11: 2.0416913 | T11: 575000 | U11: 2.6289079
A12: B.1.b | B12: Dobava vode VIO Zaprešić | D12: 8000 | E12: 0.064926106 | F12: 8000 | G12: 0.062626476 | H12: 6710.37 | I12: 0.052354776 | J12: 8000 | K12: 0.058837806 | L12: 0 | M12: 0 | N12: 8000 | O12: 0.056506353 | P12: 0 | Q12: 0 | R12: 8000 | S12: 0.054445102 | T12: 0 | U12: 0
A13: B.1.c | B13: Dobava vode Varkom Varaždin | D13: 5000 | E13: 0.040578816 | F13: 6500 | G13: 0.050884012 | H13: 7405.44 | I13: 0.057777761 | J13: 5000 | K13: 0.036773629 | L13: 8000 | M13: 0.046164855 | N13: 5000 | O13: 0.035316471 | P13: 8000 | Q13: 0.037307864 | R13: 5000 | S13: 0.034028189 | T13: 8000 | U13: 0.03657611
A14: B.1.d | B14: OKP Rogaška | D14: 200 | E14: 0.0016231526 | F14: 100 | G14: 0.00078283095 | H14: 114.63 | I14: 0.00089435128 | J14: 200 | K14: 0.0014709452 | L14: 200 | M14: 0.0011541214 | N14: 200 | O14: 0.0014126588 | P14: 200 | Q14: 0.00093269661 | R14: 200 | S14: 0.0013611276 | T14: 200 | U14: 0.00091440276
A15: B.2. | B15: Troškovi promiđžbe | D15: 6000 | E15: 0.048694579 | F15: 17500 | G15: 0.13699542 | H15: 21478.9 | I15: 0.16757988 | J15: 6000 | K15: 0.044128355 | L15: 6000 | M15: 0.034623641 | N15: 6000 | O15: 0.042379765 | P15: 6000 | Q15: 0.027980898 | R15: 6000 | S15: 0.040833827 | T15: 6000 | U15: 0.027432083
A16: B.3. | B16: Reprezentacija | D16: 25000 | E16: 0.20289408 | F16: 35000 | G16: 0.27399083 | H16: 32411.79 | I16: 0.25287905 | J16: 25000 | K16: 0.18386814 | L16: 25000 | M16: 0.14426517 | N16: 25000 | O16: 0.17658235 | P16: 25000 | Q16: 0.11658708 | R16: 25000 | S16: 0.17014094 | T16: 25000 | U16: 0.11430034
... A50: 2. | B50: Financijski rashodi | D50: 122000 | E50: 0.99012312 | F50: 10200 | G50: 0.079848757 | H50: 9229.75 | I50: 0.072011156 | J50: 122000 | K50: 0.89727655 | L50: 89000 | M50: 0.51358401 | N50: 72000 | O50: 0.50855718 | P50: 128000 | Q50: 0.55961797 | R50: 72000 | S50: 0.49000592 | T50: 128000 | U50: 0.54864165
B51: UKUPNI RASHODI | D51: 12321700 | E51: 100 | F51: 12774150 | G51: 100 | H51: 12817111 | I51: 100 | J51: 13596700 | K51: 100 | L51: 17329200 | M51: 100 | N51: 14157700 | O51: 100 | P51: =P50+P5 -> 21451200 | Q51: 100 | R51: 14693700 | S51: 100 | T51: =T50+T5 -> 21880200 | U51: 100

Sheet Rekapitulacija
B5: REKAPITULACIJA ( €)
B9: R.b. | C9: Pozicija | D9: Izmjena Plana 2025. | E9: Realizacija plana 2025. | F9: Plan 2026. | G9: II. Izmjena Plana 2026. | H9: Plan 2027. | I9: II. Izmjena Plana 2027. | J9: Plan 2028. | K9: II. Izmjena Plana 2028.
B10: 1. | C10: UKUPNI PRIHODI | D10: 12775445 | E10: 12831925 | F10: 13597966 | G10: =Prihodi!J22 -> 17331112 | H10: 14159067 | I10: =Prihodi!N22 -> 21454480 | J10: 14695466 | K10: =Prihodi!R22 -> 21884192
B11: 2. | C11: UKUPNI RASHODI | D11: 12774150 | E11: 12817111 | F11: 13596700 | G11: 17329200 | H11: 14157700 | I11: =Rashodi!P51 -> 21451200 | J11: 14693700 | K11: =Rashodi!T51 -> 21880200
B12: 3. | C12: REZULTAT | D12: =D10-D11 -> 1294.98 | E12: 14813.572 | F12: 1266.2 | G12: =G10-G11 -> 1912.04 | H12: 1367.4 | I12: =I10-I11 -> 3279.6 | J12: 1765.6 | K12: =K10-K11 -> 3991.95
