Workbook

Sheet REKONST. I UREĐENJE OBJ.
A3: I. | B3: II. IZMJENA PLANA REKONSTRUKCIJA 2025.- 2028. (€)
C8: Izmjena Plana 2025. | D8: Realizacija plana 2025. | E8: Plan 2026. | F8: II. Izmjena Plana 2026. | G8: Plan 2027. | H8: II. Izmjena Plana 2027. | I8: Plan 2028. | J8: II.Izmjena Plana 2028.
B9: REKONSTRUKCIJE SVEUKUPNO | C9: =C10+C65 -> 359721.43 | D9: =D10+D65 -> 431674.34 | E9: 250000 | F9: =F10+F65 -> 250000 | G9: 250000 | H9: =H10+H65 -> 250000 | I9: 250000 | J9: =J10+J65 -> 250000
A10: 1. | B10: VODOOPSKRBA | C10: =SUM(C11:C56) -> 309976.43 | D10: =SUM(D11:D59) -> 389895.87 | E10: =SUM(E11:E64) -> 220000 | F10: 220000 | G10: 220000 | H10: 220000 | I10: 220000 | J10: 220000
B11: REKONSTRUKCIJA MVM ZABOK | C11: 0 | D11: 0 | E11: 15000
B12: REKONSTRUKCIJA MVM BEDEKOVČINA | C12: 0 | D12: 0 | E12: 10000
B13: REKONSTRUKCIJA MVM LOBOR | C13: 1806.98 | D13: 1806.98 | E13: 3000
B14: REKONSTRUKCIJA MVM MAČE | C14: 1285.16 | D14: 1285.16 | E14: 2000
B15: REKONSTRUKCIJA MVM ZLATAR | C15: 4388.73 | D15: 4388.73 | E15: 15000
B16: REKONSTRUKCIJA MVM ZLATAR BISTRICA | C16: 0 | D16: 0 | E16: 5000
B17: REKONSTRUKCIJA MVM MARIJA BISTRICA | C17: 3500 | D17: 2921.4 | E17: 20000
B18: REKONSTRUKCIJA MVM KONJŠČINA | C18: 12755.2 | D18: 12755.2 | E18: 3000
B19: REKONSTRUKCIJA MVM BUDINŠČINA | C19: 0 | D19: 0 | E19: 2000
B20: REKONSTRUKCIJA MVM HRAŠČINA | C20: 0 | D20: 0 | E20: 2000
B21: REKONSTRUKCIJA MVM NOVI GOLUBOVEC | C21: 0 | D21: 0 | E21: 2000
B22: REKONSTRUKCIJA MVM MIHOVLJAN | C22: 0 | D22: 0 | E22: 2000
... B46: REKONSTRUKCIJA MVM ZABOK - BRAČAK | C46: 5000 | D46: 855.8 | E46: 0
B47: REKONSTRUKCIJA VS ZABOK | C47: 10000 | E47: 0
B48: REKONSTRUKCIJA MVM JAKOVLJE | C48: 5000 | D48: 2718.8 | E48: 0
B49: REKONTRUKCIJA MVM LOBOR - MARKUŠ BRIJEG | C49: 4000 | D49: 2322.31 | E49: 0
B50: REKONSTRUKCIJA MVM PREGRADA - ULICA JOSIPA ŠTRUKA | C50: 8000 | D50: 4568.16 | E50: 0
B51: REKONSTRUKCIJA MVM KUMROVEC - RISVICA | C51: 4000 | D51: 5214.43 | E51: 0
B52: REKONSTRUKCIJA MVM OROSLAVJE | C52: 5000 | D52: 0 | E52: 0
B53: REKONSTRUKCIJA MVM V. TRGOVIŠĆE - STRMEC | C53: 10000 | D53: 7826.2 | E53: 0
B54: REKONSTRUKCIJA MVM V. TRGOVIŠĆE - DRUŽILOVEC | C54: 5000 | D54: 1660.5 | E54: 0
B55: REKONSTRUKCIJA MVM JAKOVLJE - OGRANAK STUBIČKE CESTE | C55: 5000 | D55: 3258.76 | E55: 0
B56: REKONSTRUKCIJA MVM SVETI KRIŽ ZAČRETJE - CENTAR | C56: 5000 | D56: 1099.19 | E56: 0
B57: REKONSTRUKCIJA MVM TUHELJ | C57: 10000 | D57: 14755.24 | E57: 0
B58: REKONSTRUKCIJA MVM GORNJA STUBICA - SVETI MATEJ | C58: 0 | D58: 626.4 | E58: 0
B59: REKONSTRUKCIJA MVM BEDEKOVČINA - POZNANOVEC | C59: 0 | D59: 2878.59 | E59: 0
... B64: REKONTRUKCIJA MVM PETROVSKO | C64: 0 | D64: 0 | E64: 5000
A65: 2. | B65: ODVODNJA | C65: =SUM(C66:C71) -> 49745 | D65: =SUM(D66:D72) -> 41778.47 | E65: 30000 | F65: 30000 | G65: 30000 | H65: 30000 | I65: 30000 | J65: 30000
B66: REKONSTRUKCIJA SUSTAVA JAVNE ODVODNJE D. STUBICA-MARČINKOVO | C66: 7200 | D66: 7187.01
B67: REKONSTRUKCIJA SUSTAVA JAVNE ODVODNJE KLANJEC-CVIJETNA ULICA | C67: 13320 | D67: 13311.03
B68: REKONSTRUKCIJA SUSTAVA JAVNE ODVODNJE VELIKO TRGOVIŠĆE | C68: 2405 | D68: 2401.64
B69: REKONSTRUKCIJA SUSTAVA JAVNE ODVODNJE MAČE | C69: 3300 | D69: 3293.13
B70: REKONSTRUKCIJA SUSTAVA JAVNE ODVODNJE SV. K. ZAČRETJE-M.J. ZAGORKE | C70: 3020 | D70: 3019.28
B71: REKONSTRUKCIJA SUSTAVA JAVNE ODVODNJE M. BISTRICA KOLODVORSKA UL. | C71: 20500 | D71: 5116.38
B72: REKONSTRUKCIJA SUSTAVA JAVNE ODVODNJE BEDEKOVČINA - UL. LJ. GAJA | C72: 0 | D72: 7450
A75: II. | B75: II. IZMJENA PLANA UREĐENJA OBJEKATA 2025. - 2028.(€)
...

Sheet NABAVA OPREME
A2: III. | B2: II. IZMJENA PLANA NABAVE OPREME 2025.-2028. (€)
D5: Izmjena Plana 2025. | E5: Realizacija plana 2025. | F5: Plan 2026. | G5: II. Izmjena Plana 2026. | H5: Plan 2027. | I5: II. Izmjena Plana 2027. | J5: Plan 2028. | K5: II. Izmjena Plana 2028.
C6: Količina | D6: =D7+D34 -> 209340.18 | E6: =E7+E34 -> 223545.46 | F6: =F7+F34 -> 287500 | G6: =G7+G34 -> 249500 | H6: =H7+H34 -> 301500 | I6: =I7+I34 -> 387000 | J6: =J7+J34 -> 300500 | K6: =K7+K34 -> 368000
A7: 1. | B7: Vozni i strojni park | D7: =SUM(D8:D32) -> 7159.64 | E7: =SUM(E8:E32) -> 7160.04 | F7: =SUM(F8:F32) -> 213000 | G7: =SUM(G8:G33) -> 74000 | H7: =SUM(H8:H28) -> 222000 | I7: =SUM(I8:I32) -> 313000 | J7: =SUM(J8:J28) -> 236000 | K7: =SUM(K8:K32) -> 300000
B8: TRAKTORSKA CISTERNA | C8: 1 | D8: 0 | E8: 0 | F8: 0 | G8: 44000 | H8: 0 | I8: 0 | J8: 0 | K8: 0
B9: TRAKTORSKA PRIKOLICA | C9: 1 | D9: 0 | E9: 0 | G9: 0 | H9: 0 | I9: 20000 | J9: 0 | K9: 0
B10: TRAKTORSKA PRIKOLICA | C10: 1 | D10: 0 | E10: 0 | F10: 18000 | G10: 0 | H10: 0 | I10: 18000 | J10: 0 | K10: 0
B11: KAMION KIPER | C11: 1 | D11: 0 | E11: 0 | F11: 80000 | G11: 0 | H11: 0 | I11: 0 | J11: 0 | K11: 150000
B12: TRAKTOR | C12: 1 | D12: 0 | E12: 0 | F12: 0 | G12: 0 | H12: 0 | I12: 65000 | J12: 0 | K12: 0
B13: TRAKTORSKI MALČER S KRANOM | C13: 1 | D13: 0 | E13: 0 | F13: 20000 | G13: 0 | H13: 0 | I13: 0 | J13: 0 | K13: 0
B14: VILIČAR | C14: 1 | D14: 0 | E14: 0 | F14: 20000 | G14: 0 | H14: 0 | I14: 0 | J14: 0 | K14: 0
B15: SAMOHODNA KOSILICA ZA KOŠNJU TRAVE 4X4 | C15: 1 | D15: 0 | E15: 0 | F15: 0 | G15: 0 | H15: 12000 | I15: 0 | J15: 0 | K15: 0
B16: TERETNO VOZILO - FURGON DVOSJED - RABLJENO | C16: 1 | D16: 0 | E16: 0 | F16: 15000 | G16: 0 | H16: 0 | I16: 0 | J16: 0 | K16: 0
B17: TERETNO VOZILO - FURGON DVOSJED - RABLJENO | C17: 2 | D17: 0 | E17: 0 | F17: 0 | G17: 0 | H17: 30000 | I17: 0 | J17: 0 | K17: 0
B18: TERETNO VOZILO - FURGON DVOSJED | C18: 5 | D18: 0 | E18: 0 | F18: 0 | G18: 0 | H18: 0 | I18: 50000 | J18: 0 | K18: 0
B19: OSOBNO VOZILO S PET SJEDALA - PETORA VRATA - RABLJENO | C19: 2 | D19: 0 | E19: 0 | F19: 0 | G19: 25000 | H19: 0 | I19: 0 | J19: 41000 | K19: 0
B20: OSOBNO VOZILO S PET SJEDALA - PETORA VRATA - RABLJENO | C20: 1 | D20: 0 | E20: 0 | F20: 15000 | G20: 0 | H20: 0 | I20: 0 | J20: 0 | K20: 0
B21: OSOBNO VOZILO S PET SJEDALA - PETORA VRATA | C21: 1 | D21: 0 | E21: 0 | F21: 45000 | G21: 0 | H21: 0 | I21: 25000 | J21: 0 | K21: 0
... B23: MIDI BAGER - 3 TONA | C23: 1 | D23: 0 | E23: 0 | F23: 0 | G23: 0 | H23: 0 | I23: 0 | J23: 45000 | K23: 0
B24: BAGER GUSJENIČAR 6 T | C24: 1 | D24: 0 | E24: 0 | F24: 0 | G24: 0 | H24: 0 | I24: 85000 | K24: 0
B25: TERETNO VOZILO DUPLA KABINA 4x4 S TOVARNIM SANDUKOM | C25: 1 | D25: 0 | E25: 0 | F25: 0 | G25: 0 | H25: 50000 | I25: 50000 | J25: 0 | K25: 0
B26: TERETNO VOZILO DUPLA KABINA 4x4 S TOVARNIM SANDUKOM | C26: 3 | D26: 0 | E26: 0 | F26: 0 | G26: 0 | H26: 0 | I26: 0 | J26: 150000 | K26: 150000
B27: DIJAGNOSTIKA VOZILA | C27: 1 | D27: 1857.14 | E27: 1857.14 | F27: 0 | G27: 0 | H27: 0 | I27: 0 | J27: 0 | K27: 0
B28: UREĐAJ ZA KEMIJSKO ČIŠĆENJE VOZILA | C28: 1 | D28: 592 | E28: 592 | F28: 0 | G28: 0 | H28: 0 | I28: 0 | J28: 0 | K28: 0
B29: UTOVARNA RAMPA | C29: 1 | D29: 1478 | E29: 1478.4 | F29: 0 | G29: 0 | H29: 0 | I29: 0 | J29: 0 | K29: 0
B30: ŽLICA KOPAČKA | C30: 1 | D30: 1712.5 | E30: 1712.5 | F30: 0 | G30: 0 | H30: 0 | I30: 0 | J30: 0 | K30: 0
B31: NOSAČ MOTORA VW TRANSPORTER | C31: 1 | D31: 556.8 | E31: 556.8 | F31: 0 | G31: 0 | H31: 0 | I31: 0 | J31: 0 | K31: 0
B32: GUSJENICA GUMENA ZA JCB | C32: 2 | D32: 963.2 | E32: 963.2 | F32: 0 | G32: 0 | H32: 0 | I32: 0 | J32: 0 | K32: 0
B33: OSTALO | D33: 0 | E33: 0 | F33: 0 | G33: 5000 | H33: 0 | I33: 0 | J33: 0 | K33: 0
A34: 2. | B34: Oprema | D34: =D35+D37+D43+D50+D55+D65+D74+D84+D91+D69 -> 202180.54 | E34: =E35+E37+E43+E50+E55+E65+E74+E84+E91+E69 -> 216385.42 | F34: =F35+F37+F43+F50+F55+F65+F74+F84+F91+F69 -> 74500 | G34: =G35+G37+G43+G50+G55+G65+G74+G84+G91+G69 -> 175500 | H34: =H35+H37+H43+H50+H55+H65+H74+H84+H91+H69 -> 79500 | I34: =I35+I37+I43+I50+I55+I65+I74+I84+I91+I69 -> 74000 | J34: =J35+J37+J43+J50+J55+J65+J74+J84+J91+J69 -> 64500 | K34: =K35+K37+K43+K50+K55+K65+K74+K84+K91+K69 -> 68000
B35: MAGNETNO - INDUKTIVNI MJERAČI PROTOKA | D35: =D36 -> 0 | E35: 0 | F35: 5000 | G35: 25000 | H35: 10000 | I35: 10000 | J35: 10000 | K35: 10000
B36: PREINAKA TRANSMITERA I ELEKTRONIKE I NOVI MJERAČI
B37: TELEMETRIJA - NUS | D37: =SUM(D38:D42) -> 55814 | E37: =SUM(E38:E42) -> 56214 | F37: 10000 | G37: =SUM(G38:G42) -> 17000 | H37: 10000 | I37: 10000 | J37: 10000 | K37: 1000
B38: VS CERINE | D38: 12660 | E38: 12660
B39: TELEMETRIJA I NUS KS STUPA | D39: 28090 | E39: 28090
B40: NUS VS LUČI BRIJEG | D40: 12480 | E40: 12480
B41: UPRAVLJAČKA KUTIJA FRENKV. PRETVARAČA | D41: 2584 | E41: 2984 | G41: 2000
B42: VS BANŠČICA | G42: 15000
B43: CRPKE SA FRENKVENCIJSKIM PRETVARAČIMA | D43: =SUM(D44:D47) -> 8147.9 | E43: =SUM(E44:E47) -> 9303.9 | F43: 5000 | G43: =SUM(G44:G49) -> 24000 | H43: 5000 | I43: 5000 | J43: 5000 | K43: 5000
B44: FRENKVENCIJSKI PRETVARAČ INVERTER | D44: 1124.9 | E44: 1124.9
...

Sheet REKAPITULACIJA
B2: REKAPITULACIJA
B3: II. IZMJENA PLANA ODRŽAVANJA KVG I NABAVE OPREME 2025.- 2028. (€)
E8: Izvori financiranja | H8: Izvori financiranja | K8: Izvori financiranja | N8: Izvori financiranja | Q8: Izvori financiranja
B9: R.b. | C9: Opis | D9: Plan 2025. | E9: Amortizacija | F9: Prihod poslovanja | G9: Realizacija I.-VI.2025. | H9: Amortizacija | I9: Prihod poslovanja | J9: I. Izmjena plana 2025. | K9: Amortizacija | L9: Prihod poslovanja | M9: Izmjena Plana 2025. | N9: Amortizacija | O9: Prihod poslovanja | P9: Realizacija Plana 2025. | Q9: Amortizacija | R9: Prihod poslovanja
B10: 1. | C10: Rekonstrukcije | D10: ='REKONST. I UREĐENJE OBJ.'!#REF! -> #REF! | E10: =D10 -> #REF! | F10: 0 | G10: ='REKONST. I UREĐENJE OBJ.'!#REF! -> #REF! | H10: =G10 -> #REF! | J10: ='REKONST. I UREĐENJE OBJ.'!C9 -> 359721.43 | K10: =J10 -> 359721.43 | M10: ='REKONST. I UREĐENJE OBJ.'!C9 -> 359721.43 | N10: =M10 -> 359721.43 | O10: 0 | P10: ='REKONST. I UREĐENJE OBJ.'!D9 -> 431674.34 | Q10: =P10 -> 431674.34 | R10: 0
B11: 2. | C11: Uređenje objekata | D11: ='REKONST. I UREĐENJE OBJ.'!#REF! -> #REF! | E11: 0 | F11: 0 | G11: ='REKONST. I UREĐENJE OBJ.'!#REF! -> #REF! | J11: ='REKONST. I UREĐENJE OBJ.'!C79 -> 136872 | M11: ='REKONST. I UREĐENJE OBJ.'!C79 -> 136872 | N11: =M11-O11 -> 109372 | O11: 27500 | P11: ='REKONST. I UREĐENJE OBJ.'!D79 -> 144738.21 | Q11: 117205.21 | R11: 27533
B12: 3. | C12: Nabava opreme | D12: ='NABAVA OPREME'!#REF! -> #REF! | E12: ='NABAVA OPREME'!#REF! -> #REF! | F12: 0 | G12: ='NABAVA OPREME'!#REF! -> #REF! | H12: =G12 -> #REF! | J12: ='NABAVA OPREME'!D6 -> 209340.18 | K12: =J12 -> 209340.18 | M12: ='NABAVA OPREME'!D6 -> 209340.18 | N12: =M12 -> 209340.18 | O12: 0 | P12: ='NABAVA OPREME'!E6 -> 223545.46 | Q12: =P12 -> 223545.46 | R12: 0
C13: UKUPNO (1.+2+3.) | D13: =D10+D11+D12 -> #REF! | E13: =E10+#REF!+E12 -> #REF! | F13: =SUM(F10:F12) -> 0 | G13: =G10+G12+G11 -> #REF! | H13: =H10+H12 -> #REF! | I13: 0 | J13: =J10+J12+J11 -> 705933.61 | K13: =K10+K12 -> 569061.61 | L13: =#REF!+L12 -> #REF! | M13: =M10+M12+M11 -> 705933.61 | N13: =N10+N11+N12 -> 678433.61 | O13: 27500 | P13: =P10+P12+P11 -> 799958.01 | Q13: =Q10+Q11+Q12 -> 772425.01 | R13: =R11 -> 27533
E17: Izvori financiranja | H17: Izvori financiranja | K17: Izvori financiranja | N17: Izvori financiranja | Q17: Izvori financiranja
B18: R.b. | C18: Opis | D18: Plan 2025. | E18: Amortizacija | F18: Prihod poslovanja | G18: Realizacija I.-VI.2025. | H18: Amortizacija | I18: Prihod poslovanja | J18: I. Izmjena plana 2025. | K18: Amortizacija | L18: Prihod poslovanja | M18: Plan 2026. | N18: Amortizacija | O18: Prihod poslovanja | P18: II. Izmjena Plana 2026. | Q18: Amortizacija | R18: Prihod poslovanja
B19: 1. | C19: Rekonstrukcije | D19: ='REKONST. I UREĐENJE OBJ.'!#REF! -> #REF! | E19: =D19 -> #REF! | F19: 0 | G19: ='REKONST. I UREĐENJE OBJ.'!#REF! -> #REF! | H19: =G19 -> #REF! | J19: ='REKONST. I UREĐENJE OBJ.'!C23 -> 3500 | K19: =J19 -> 3500 | M19: ='REKONST. I UREĐENJE OBJ.'!E9 -> 250000 | N19: =M19 -> 250000 | O19: 0 | P19: ='REKONST. I UREĐENJE OBJ.'!F9 -> 250000 | Q19: =P19 -> 250000 | R19: 0
B20: 2. | C20: Uređenje objekata | D20: ='REKONST. I UREĐENJE OBJ.'!#REF! -> #REF! | E20: 0 | F20: 0 | G20: ='REKONST. I UREĐENJE OBJ.'!#REF! -> #REF! | J20: ='REKONST. I UREĐENJE OBJ.'!C88 -> 800 | M20: ='REKONST. I UREĐENJE OBJ.'!E79 -> 53000 | N20: 3000 | O20: 50000 | P20: ='REKONST. I UREĐENJE OBJ.'!F79 -> 181200 | Q20: =P20-R20 -> 151200 | R20: 30000
B21: 3. | C21: Nabava opreme | D21: ='NABAVA OPREME'!#REF! -> #REF! | E21: ='NABAVA OPREME'!#REF! -> #REF! | F21: 0 | G21: ='NABAVA OPREME'!#REF! -> #REF! | H21: =G21 -> #REF! | J21: ='NABAVA OPREME'!D22 -> 0 | K21: =J21 -> 0 | M21: ='NABAVA OPREME'!F6 -> 287500 | N21: ='NABAVA OPREME'!F6 -> 287500 | O21: 0 | P21: ='NABAVA OPREME'!G6 -> 249500 | Q21: =P21 -> 249500 | R21: 0
C22: UKUPNO (1.+2+3.) | D22: =D19+D20+D21 -> #REF! | E22: =E19+#REF!+E21 -> #REF! | F22: =SUM(F19:F21) -> 0 | G22: =G19+G21+G20 -> #REF! | H22: =H19+H21 -> #REF! | I22: 0 | J22: =J19+J21+J20 -> 4300 | K22: =K19+K21 -> 3500 | L22: =#REF!+L21 -> #REF! | M22: =M19+M21+M20 -> 590500 | N22: =N19+N20+N21 -> 540500 | O22: =O20 -> 50000 | P22: =P19+P21+P20 -> 680700 | Q22: =SUM(Q19:Q21) -> 650700 | R22: =R20 -> 30000
E26: Izvori financiranja | H26: Izvori financiranja | K26: Izvori financiranja | N26: Izvori financiranja | Q26: Izvori financiranja
B27: R.b. | C27: Opis | D27: Plan 2025. | E27: Amortizacija | F27: Prihod poslovanja | G27: Realizacija I.-VI.2025. | H27: Amortizacija | I27: Prihod poslovanja | J27: I. Izmjena plana 2025. | K27: Amortizacija | L27: Prihod poslovanja | M27: Plan 2027. | N27: Amortizacija | O27: Prihod poslovanja | P27: II. Izmjena Plana 2027. | Q27: Amortizacija | R27: Prihod poslovanja
B28: 1. | C28: Rekonstrukcije | D28: ='REKONST. I UREĐENJE OBJ.'!#REF! -> #REF! | E28: =D28 -> #REF! | F28: 0 | G28: ='REKONST. I UREĐENJE OBJ.'!#REF! -> #REF! | H28: =G28 -> #REF! | J28: ='REKONST. I UREĐENJE OBJ.'!C37 -> 3899.19 | K28: =J28 -> 3899.19 | M28: ='REKONST. I UREĐENJE OBJ.'!G9 -> 250000 | N28: =M28 -> 250000 | O28: 0 | P28: ='REKONST. I UREĐENJE OBJ.'!H9 -> 250000 | Q28: =P28 -> 250000 | R28: 0
B29: 2. | C29: Uređenje objekata | D29: ='REKONST. I UREĐENJE OBJ.'!#REF! -> #REF! | E29: 0 | F29: 0 | G29: ='REKONST. I UREĐENJE OBJ.'!#REF! -> #REF! | J29: ='REKONST. I UREĐENJE OBJ.'!C103 -> 950 | M29: ='REKONST. I UREĐENJE OBJ.'!G79 -> 53000 | N29: 3000 | O29: 50000 | P29: ='REKONST. I UREĐENJE OBJ.'!H79 -> 113000 | Q29: =P29-R29 -> 36000 | R29: 77000
B30: 3. | C30: Nabava opreme | D30: ='NABAVA OPREME'!#REF! -> #REF! | E30: ='NABAVA OPREME'!#REF! -> #REF! | F30: 0 | G30: ='NABAVA OPREME'!#REF! -> #REF! | H30: =G30 -> #REF! | J30: ='NABAVA OPREME'!D37 -> 55814 | K30: =J30 -> 55814 | M30: ='NABAVA OPREME'!H6 -> 301500 | N30: =M30 -> 301500 | O30: 0 | P30: ='NABAVA OPREME'!I6 -> 387000 | Q30: =P30 -> 387000 | R30: 0
C31: UKUPNO (1.+2+3.) | D31: =D28+D29+D30 -> #REF! | E31: =E28+#REF!+E30 -> #REF! | F31: =SUM(F28:F30) -> 0 | G31: =G28+G30+G29 -> #REF! | H31: =H28+H30 -> #REF! | I31: 0 | J31: =J28+J30+J29 -> 60663.19 | K31: =K28+K30 -> 59713.19 | L31: =#REF!+L30 -> #REF! | M31: =M28+M30+M29 -> 604500 | N31: =N28+N29+N30 -> 554500 | O31: =O29 -> 50000 | P31: =P28+P30+P29 -> 750000 | Q31: =Q28+Q29+Q30 -> 673000 | R31: =R29 -> 77000
E35: Izvori financiranja | H35: Izvori financiranja | K35: Izvori financiranja | N35: Izvori financiranja | Q35: Izvori financiranja
B36: R.b. | C36: Opis | D36: Plan 2025. | E36: Amortizacija | F36: Prihod poslovanja | G36: Realizacija I.-VI.2025. | H36: Amortizacija | I36: Prihod poslovanja | J36: I. Izmjena plana 2025. | K36: Amortizacija | L36: Prihod poslovanja | M36: Plan 2028. | N36: Amortizacija | O36: Prihod poslovanja | P36: II. Izmjena Plana 2028. | Q36: Amortizacija | R36: Prihod poslovanja
B37: 1. | C37: Rekonstrukcije | D37: ='REKONST. I UREĐENJE OBJ.'!#REF! -> #REF! | E37: =D37 -> #REF! | F37: 0 | G37: ='REKONST. I UREĐENJE OBJ.'!#REF! -> #REF! | H37: =G37 -> #REF! | J37: ='REKONST. I UREĐENJE OBJ.'!C48 -> 5000 | K37: =J37 -> 5000 | M37: ='REKONST. I UREĐENJE OBJ.'!I9 -> 250000 | N37: =M37 -> 250000 | O37: 0 | P37: ='REKONST. I UREĐENJE OBJ.'!J9 -> 250000 | Q37: =P37 -> 250000 | R37: 0
B38: 2. | C38: Uređenje objekata | D38: ='REKONST. I UREĐENJE OBJ.'!#REF! -> #REF! | E38: 0 | F38: 0 | G38: ='REKONST. I UREĐENJE OBJ.'!#REF! -> #REF! | J38: ='REKONST. I UREĐENJE OBJ.'!C112 -> 1240 | M38: ='REKONST. I UREĐENJE OBJ.'!I79 -> 53000 | N38: 3000 | O38: 50000 | P38: ='REKONST. I UREĐENJE OBJ.'!J79 -> 76000 | Q38: =P38-R38 -> 41000 | R38: 35000
B39: 3. | C39: Nabava opreme | D39: ='NABAVA OPREME'!#REF! -> #REF! | E39: ='NABAVA OPREME'!#REF! -> #REF! | F39: 0 | G39: ='NABAVA OPREME'!#REF! -> #REF! | H39: =G39 -> #REF! | J39: ='NABAVA OPREME'!D50 -> 45012.92 | K39: =J39 -> 45012.92 | M39: ='NABAVA OPREME'!J6 -> 300500 | N39: =M39 -> 300500 | O39: 0 | P39: ='NABAVA OPREME'!K6 -> 368000 | Q39: =P39 -> 368000 | R39: 0
C40: UKUPNO (1.+2+3.) | D40: =D37+D38+D39 -> #REF! | E40: =E37+#REF!+E39 -> #REF! | F40: =SUM(F37:F39) -> 0 | G40: =G37+G39+G38 -> #REF! | H40: =H37+H39 -> #REF! | I40: 0 | J40: =J37+J39+J38 -> 51252.92 | K40: =K37+K39 -> 50012.92 | L40: =#REF!+L39 -> #REF! | M40: =M37+M39+M38 -> 603500 | N40: =N37+N38+N39 -> 553500 | O40: =O38 -> 50000 | P40: =P37+P39+P38 -> 694000 | Q40: =Q37+Q38+Q39 -> 659000 | R40: =R38 -> 35000
